BEGIN:VCALENDAR
VERSION:2.0
PRODID:-//Zagovornik načela enakosti - ECPv5.3.2.1//NONSGML v1.0//EN
CALSCALE:GREGORIAN
METHOD:PUBLISH
X-WR-CALNAME:Zagovornik načela enakosti
X-ORIGINAL-URL:http://www.zagovornik.si
X-WR-CALDESC:Events for Zagovornik načela enakosti
BEGIN:VTIMEZONE
TZID:Europe/Paris
BEGIN:DAYLIGHT
TZOFFSETFROM:+0100
TZOFFSETTO:+0200
TZNAME:CEST
DTSTART:20190331T010000
END:DAYLIGHT
BEGIN:STANDARD
TZOFFSETFROM:+0200
TZOFFSETTO:+0100
TZNAME:CET
DTSTART:20191027T010000
END:STANDARD
END:VTIMEZONE
BEGIN:VEVENT
DTSTART;TZID=Europe/Paris:20190509T183000
DTEND;TZID=Europe/Paris:20190509T203000
DTSTAMP:20210626T053735
CREATED:20190506T093225Z
LAST-MODIFIED:20190506T093225Z
UID:2546-1557426600-1557433800@www.zagovornik.si
SUMMARY:Vabilo na pogovor z naslovom Ko ne moreš\, kamor bi želel: Pomen ureditve prostora za polno državljanstvo v starosti
DESCRIPTION:Spoštovani\, \nvabimo vas na pogovor z naslovom Ko ne moreš\, kamor bi želel: Pomen ureditve prostora za polno državljanstvo v starosti\, ki bo v četrtek\, 9. maja ob 18:30 v Centru kulture Španski borci. Na pogovoru bodo sodelovali asistentka na Fakulteti za socialno delo in bivša direktorica doma Doma Petra Uzarja dr. Anamarija Kejžar\, pomočnica direktorice DSO Ljubljana Vič-Rudnik za strokovne zadeve Barbara Purkart in predsednik Mestne zveze upokojencev Ljubljana Marjan Sedmak. Pogovor organizira Zavod OPRO. \nVljudno vabljeni.
URL:http://www.zagovornik.si/dogodek/vabilo-na-pogovor-z-naslovom-ko-ne-mores-kamor-bi-zelel-pomen-ureditve-prostora-za-polno-drzavljanstvo-v-starosti/
CATEGORIES:dogodek
END:VEVENT
END:VCALENDAR